BEGIN:VCALENDAR
VERSION:2.0
PRODID:-//Plone.org//NONSGML plone.app.event//EN
X-WR-TIMEZONE:America/Sao_Paulo
BEGIN:VEVENT
SUMMARY:Varnish caching in Plone
DTSTART;TZID=America/Sao_Paulo:20241127T163000
DTEND;TZID=America/Sao_Paulo:20241127T171000
DTSTAMP:20260425T003138Z
UID:6421789c542a43168e27be8e5d745935
ATTENDEE;CN="Thijs Feryn";ROLE=REQ-PARTICIPANT:Thijs Feryn
CREATED:20241003T121229Z
DESCRIPTION:Learn the basics of Varnish and how to use it as a caching pro
 xy in Plone to accelerate your applications.
GEO:-15.809682071122648;-47.90939080343629
LAST-MODIFIED:20241210T142035Z
LOCATION:Jean Ferri Auditorium
URL:https://2024.ploneconf.org/en/schedule/talks/varnish-caching-in-plone
END:VEVENT
BEGIN:VTIMEZONE
TZID:America/Sao_Paulo
X-LIC-LOCATION:America/Sao_Paulo
BEGIN:STANDARD
DTSTART:20190216T230000
TZNAME:-03
TZOFFSETFROM:-0200
TZOFFSETTO:-0300
END:STANDARD
END:VTIMEZONE
END:VCALENDAR
