BEGIN:VCALENDAR
VERSION:2.0
PRODID:-//Plone.org//NONSGML plone.app.event//EN
X-WR-TIMEZONE:America/Sao_Paulo
BEGIN:VEVENT
SUMMARY:Plone on Kubernetes
DTSTART;TZID=America/Sao_Paulo:20241129T104000
DTEND;TZID=America/Sao_Paulo:20241129T112000
DTSTAMP:20260425T014454Z
UID:72743c2c4a454f34b198528ca29d55e7
ATTENDEE;CN="Fabiano Weimar";ROLE=REQ-PARTICIPANT:Fabiano Weimar
CREATED:20241003T121216Z
DESCRIPTION:Understand how to effectively run Plone on Kubernetes.
GEO:-15.809682071122648;-47.90939080343629
LAST-MODIFIED:20241210T142027Z
LOCATION:Jean Ferri Auditorium
URL:https://2024.ploneconf.org/en/schedule/talks/plone-on-kubernetes
END:VEVENT
BEGIN:VTIMEZONE
TZID:America/Sao_Paulo
X-LIC-LOCATION:America/Sao_Paulo
BEGIN:STANDARD
DTSTART:20190216T230000
TZNAME:-03
TZOFFSETFROM:-0200
TZOFFSETTO:-0300
END:STANDARD
END:VTIMEZONE
END:VCALENDAR
