BEGIN:VCALENDAR
VERSION:2.0
PRODID:-//Plone.org//NONSGML plone.app.event//EN
X-WR-TIMEZONE:America/Sao_Paulo
BEGIN:VEVENT
SUMMARY:My first year as independent contractor
DTSTART;TZID=America/Sao_Paulo:20241128T152000
DTEND;TZID=America/Sao_Paulo:20241128T160000
DTSTAMP:20260426T033717Z
UID:4c4a6bb87f4641b5a011c0ecc76518f4
ATTENDEE;CN="Maurits van Rees";ROLE=REQ-PARTICIPANT:Maurits van Rees
CREATED:20241003T121231Z
DESCRIPTION:Since January I have my own one-person company doing Plone. Th
 is is a non-technical talk about how that was for me.
GEO:-15.809682071122648;-47.90939080343629
LAST-MODIFIED:20241210T142022Z
LOCATION:Capybara Room
URL:https://2024.ploneconf.org/en/schedule/talks/my-first-year-as-independ
 ent-contractor
END:VEVENT
BEGIN:VTIMEZONE
TZID:America/Sao_Paulo
X-LIC-LOCATION:America/Sao_Paulo
BEGIN:STANDARD
DTSTART:20190216T230000
TZNAME:-03
TZOFFSETFROM:-0200
TZOFFSETTO:-0300
END:STANDARD
END:VTIMEZONE
END:VCALENDAR
