BEGIN:VCALENDAR
VERSION:2.0
PRODID:-//Plone.org//NONSGML plone.app.event//EN
X-WR-TIMEZONE:America/Sao_Paulo
BEGIN:VEVENT
SUMMARY:Machine Learning para prever o seu relacionamento com o cliente
DTSTART;TZID=America/Sao_Paulo:20241129T100000
DTEND;TZID=America/Sao_Paulo:20241129T104000
DTSTAMP:20260422T164526Z
UID:efdbfb831fd5479fb1845c3924755b5a
ATTENDEE;CN="Raquel Fontes";ROLE=REQ-PARTICIPANT:Raquel Fontes
CREATED:20241029T183723Z
DESCRIPTION:Como utilizamos o Machine Learning a partir dos dados de relac
 ionamento com o seu cliente para realizar previsões de quando o cliente p
 ode deixar de estar engajado\, enfraquecendo o seu relacionamento com o cl
 iente para que você aja de maneira assertiva nesse constante encantamento
 .\nO projeto utiliza técnicas de aprendizagem supervisionada de classific
 ação (binária e multiclasse) e processamento distribuído para lidar co
 m alto volume de dados resultando em faixas de risco desse possível enfra
 quecimento do relacionamento com o cliente além de fazer uma analogia com
  os nossos relacionamentos interpessoais.
GEO:-15.809682071122648;-47.90939080343629
LAST-MODIFIED:20241210T142021Z
LOCATION:Jaguatirica Room
URL:https://2024.ploneconf.org/en/schedule/talks/machine-learning-para-pre
 cer-o-seu-relacionamento-com-o-cliente
END:VEVENT
BEGIN:VTIMEZONE
TZID:America/Sao_Paulo
X-LIC-LOCATION:America/Sao_Paulo
BEGIN:STANDARD
DTSTART:20190216T230000
TZNAME:-03
TZOFFSETFROM:-0200
TZOFFSETTO:-0300
END:STANDARD
END:VTIMEZONE
END:VCALENDAR
