BEGIN:VCALENDAR
VERSION:2.0
PRODID:-//Plone.org//NONSGML plone.app.event//EN
X-WR-TIMEZONE:America/Sao_Paulo
BEGIN:VEVENT
SUMMARY:Best practices for caching Plone with Varnish at large scale
DTSTART;TZID=America/Sao_Paulo:20241128T144000
DTEND;TZID=America/Sao_Paulo:20241128T152000
DTSTAMP:20260425T015817Z
UID:cbb622b787444970a8d0cbe6985bef62
ATTENDEE;CN="Thijs Feryn";ROLE=REQ-PARTICIPANT:Thijs Feryn
CREATED:20241003T121146Z
DESCRIPTION:Varnish is a reverse caching proxy that accelerates HTTP appli
 cations like Plone. This session focuses on the best practices to setup an
 d configure Varnish in a Plone setup at massive scale.
GEO:-15.809682071122648;-47.90939080343629
LAST-MODIFIED:20241210T142008Z
LOCATION:Jean Ferri Auditorium
URL:https://2024.ploneconf.org/en/schedule/talks/best-practices-for-cachin
 g-plone-with-varnish-at-large-scale
END:VEVENT
BEGIN:VTIMEZONE
TZID:America/Sao_Paulo
X-LIC-LOCATION:America/Sao_Paulo
BEGIN:STANDARD
DTSTART:20190216T230000
TZNAME:-03
TZOFFSETFROM:-0200
TZOFFSETTO:-0300
END:STANDARD
END:VTIMEZONE
END:VCALENDAR
