BEGIN:VCALENDAR
VERSION:2.0
PRODID:-//Plone.org//NONSGML plone.app.event//EN
X-WR-TIMEZONE:America/Sao_Paulo
BEGIN:VEVENT
SUMMARY:Writing and maintaining friendly (and interesting) docs
DTSTART;TZID=America/Sao_Paulo:20241129T090000
DTEND;TZID=America/Sao_Paulo:20241129T100000
DTSTAMP:20260425T002138Z
UID:97e004842cfd4b878237ea7255fb1ac1
ATTENDEE;CN="Melissa Weber Mendonça";ROLE=REQ-PARTICIPANT:Melissa Weber M
 endonça
CREATED:20241003T121204Z
DESCRIPTION:This talk will give an overview of existing tools\, technologi
 es and techniques for writing and maintaining technical documentation for 
 open source projects.
GEO:-15.809682071122648;-47.90939080343629
LAST-MODIFIED:20241210T142002Z
LOCATION:Jean Ferri Auditorium
URL:https://2024.ploneconf.org/en/schedule/keynotes/writing-and-maintainin
 g-friendly-and-interesting-docs
END:VEVENT
BEGIN:VTIMEZONE
TZID:America/Sao_Paulo
X-LIC-LOCATION:America/Sao_Paulo
BEGIN:STANDARD
DTSTART:20190216T230000
TZNAME:-03
TZOFFSETFROM:-0200
TZOFFSETTO:-0300
END:STANDARD
END:VTIMEZONE
END:VCALENDAR
