BEGIN:VCALENDAR
VERSION:2.0
PRODID:-//Plone.org//NONSGML plone.app.event//EN
X-WR-TIMEZONE:America/Sao_Paulo
BEGIN:VEVENT
SUMMARY:State of Plone
DTSTART;TZID=America/Sao_Paulo:20241127T090000
DTEND;TZID=America/Sao_Paulo:20241127T100000
DTSTAMP:20260426T003331Z
UID:846bc79449ce4a6ea8fe14e9880b3035
ATTENDEE;CN="Víctor Fernández de Alba";ROLE=REQ-PARTICIPANT:Víctor Fern
 ández de Alba
ATTENDEE;CN="Maurits van Rees";ROLE=REQ-PARTICIPANT:Maurits van Rees
ATTENDEE;CN="Timo Stollenwerk";ROLE=REQ-PARTICIPANT:Timo Stollenwerk
CREATED:20241003T121215Z
DESCRIPTION:The State of Plone\, presented by the Plone CMS release manage
 rs\, \nprovides a comprehensive overview of the Plone content management s
 ystem (CMS) and its roadmap.
GEO:-15.809682071122648;-47.90939080343629
LAST-MODIFIED:20241210T142001Z
LOCATION:Jean Ferri Auditorium
URL:https://2024.ploneconf.org/en/schedule/keynotes/state-of-plone
END:VEVENT
BEGIN:VTIMEZONE
TZID:America/Sao_Paulo
X-LIC-LOCATION:America/Sao_Paulo
BEGIN:STANDARD
DTSTART:20190216T230000
TZNAME:-03
TZOFFSETFROM:-0200
TZOFFSETTO:-0300
END:STANDARD
END:VTIMEZONE
END:VCALENDAR
